BEGIN:VCALENDAR
VERSION:2.0
PRODID:-//Vereinigung Erzgebirge - ECPv6.15.17.1//NONSGML v1.0//EN
CALSCALE:GREGORIAN
METHOD:PUBLISH
X-WR-CALNAME:Vereinigung Erzgebirge
X-ORIGINAL-URL:https://veclub.org
X-WR-CALDESC:Events for Vereinigung Erzgebirge
REFRESH-INTERVAL;VALUE=DURATION:PT1H
X-Robots-Tag:noindex
X-PUBLISHED-TTL:PT1H
BEGIN:VTIMEZONE
TZID:America/New_York
BEGIN:DAYLIGHT
TZOFFSETFROM:-0500
TZOFFSETTO:-0400
TZNAME:EDT
DTSTART:20250309T070000
END:DAYLIGHT
BEGIN:STANDARD
TZOFFSETFROM:-0400
TZOFFSETTO:-0500
TZNAME:EST
DTSTART:20251102T060000
END:STANDARD
BEGIN:DAYLIGHT
TZOFFSETFROM:-0500
TZOFFSETTO:-0400
TZNAME:EDT
DTSTART:20260308T070000
END:DAYLIGHT
BEGIN:STANDARD
TZOFFSETFROM:-0400
TZOFFSETTO:-0500
TZNAME:EST
DTSTART:20261101T060000
END:STANDARD
BEGIN:DAYLIGHT
TZOFFSETFROM:-0500
TZOFFSETTO:-0400
TZNAME:EDT
DTSTART:20270314T070000
END:DAYLIGHT
BEGIN:STANDARD
TZOFFSETFROM:-0400
TZOFFSETTO:-0500
TZNAME:EST
DTSTART:20271107T060000
END:STANDARD
END:VTIMEZONE
BEGIN:VEVENT
DTSTART;TZID=America/New_York:20260308T100000
DTEND;TZID=America/New_York:20260308T140000
DTSTAMP:20260419T102059
CREATED:20260209T204311Z
LAST-MODIFIED:20260209T204311Z
UID:14573-1772964000-1772978400@veclub.org
SUMMARY:Sunday Brunch
DESCRIPTION:
URL:https://veclub.org/event/sunday-brunch-2/
CATEGORIES:Club Brunch/Dinners
END:VEVENT
BEGIN:VEVENT
DTSTART;TZID=America/New_York:20260307T150000
DTEND;TZID=America/New_York:20260307T180000
DTSTAMP:20260419T102059
CREATED:20260209T205358Z
LAST-MODIFIED:20260209T205358Z
UID:14602-1772895600-1772906400@veclub.org
SUMMARY:Glühwein Party
DESCRIPTION:
URL:https://veclub.org/event/gluhwein-party/
CATEGORIES:Annual Events
END:VEVENT
BEGIN:VEVENT
DTSTART;TZID=America/New_York:20260301T130000
DTEND;TZID=America/New_York:20260301T170000
DTSTAMP:20260419T102059
CREATED:20260209T205241Z
LAST-MODIFIED:20260209T205241Z
UID:14597-1772370000-1772384400@veclub.org
SUMMARY:Schlachtfest
DESCRIPTION:
URL:https://veclub.org/event/schlachtfest/
CATEGORIES:Annual Events
END:VEVENT
BEGIN:VEVENT
DTSTART;TZID=America/New_York:20260227T170000
DTEND;TZID=America/New_York:20260227T190000
DTSTAMP:20260419T102059
CREATED:20260209T204640Z
LAST-MODIFIED:20260209T204640Z
UID:14586-1772211600-1772218800@veclub.org
SUMMARY:Friday Night Dinners
DESCRIPTION:
URL:https://veclub.org/event/friday-night-dinners-4/
CATEGORIES:Club Events
END:VEVENT
BEGIN:VEVENT
DTSTART;TZID=America/New_York:20260221T183000
DTEND;TZID=America/New_York:20260221T220000
DTSTAMP:20260419T102059
CREATED:20260209T204837Z
LAST-MODIFIED:20260209T205850Z
UID:14591-1771698600-1771711200@veclub.org
SUMMARY:Sunny D Band
DESCRIPTION:
URL:https://veclub.org/event/beer-wine-pairing-dinner/
CATEGORIES:Entertainment
END:VEVENT
BEGIN:VEVENT
DTSTART;TZID=America/New_York:20260220T170000
DTEND;TZID=America/New_York:20260220T190000
DTSTAMP:20260419T102059
CREATED:20260209T204614Z
LAST-MODIFIED:20260209T204614Z
UID:14583-1771606800-1771614000@veclub.org
SUMMARY:Friday Night Dinners
DESCRIPTION:
URL:https://veclub.org/event/friday-night-dinners-3/
CATEGORIES:Club Brunch/Dinners
END:VEVENT
BEGIN:VEVENT
DTSTART;TZID=America/New_York:20260218T170000
DTEND;TZID=America/New_York:20260218T190000
DTSTAMP:20260419T102059
CREATED:20260209T204347Z
LAST-MODIFIED:20260209T204347Z
UID:14575-1771434000-1771441200@veclub.org
SUMMARY:Wednesday Night Dinners
DESCRIPTION:
URL:https://veclub.org/event/wednesday-night-dinners/
CATEGORIES:Club Brunch/Dinners
END:VEVENT
BEGIN:VEVENT
DTSTART;TZID=America/New_York:20260215T140000
DTEND;TZID=America/New_York:20260215T180000
DTSTAMP:20260419T102059
CREATED:20260209T205315Z
LAST-MODIFIED:20260209T205315Z
UID:14600-1771164000-1771178400@veclub.org
SUMMARY:Bayern Valentines Dance
DESCRIPTION:
URL:https://veclub.org/event/bayern-valentines-dance/
CATEGORIES:Annual Events
END:VEVENT
BEGIN:VEVENT
DTSTART;TZID=America/New_York:20260213T170000
DTEND;TZID=America/New_York:20260213T190000
DTSTAMP:20260419T102059
CREATED:20260209T204526Z
LAST-MODIFIED:20260209T204526Z
UID:14580-1771002000-1771009200@veclub.org
SUMMARY:Friday Night Dinners
DESCRIPTION:
URL:https://veclub.org/event/friday-night-dinners-2/
CATEGORIES:Club Brunch/Dinners
END:VEVENT
BEGIN:VEVENT
DTSTART;VALUE=DATE:20260212
DTEND;VALUE=DATE:20260213
DTSTAMP:20260419T102059
CREATED:20260209T204719Z
LAST-MODIFIED:20260209T205840Z
UID:14588-1770854400-1770940799@veclub.org
SUMMARY:Country Line Dancing
DESCRIPTION:
URL:https://veclub.org/event/country-line-dancing/
CATEGORIES:Entertainment
END:VEVENT
BEGIN:VEVENT
DTSTART;TZID=America/New_York:20260208T100000
DTEND;TZID=America/New_York:20260208T140000
DTSTAMP:20260419T102059
CREATED:20260209T204245Z
LAST-MODIFIED:20260209T204245Z
UID:14571-1770544800-1770559200@veclub.org
SUMMARY:Sunday Brunch
DESCRIPTION:
URL:https://veclub.org/event/sunday-brunch/
CATEGORIES:Club Brunch/Dinners
END:VEVENT
BEGIN:VEVENT
DTSTART;TZID=America/New_York:20260206T170000
DTEND;TZID=America/New_York:20260206T190000
DTSTAMP:20260419T102059
CREATED:20260209T204457Z
LAST-MODIFIED:20260209T204457Z
UID:14578-1770397200-1770404400@veclub.org
SUMMARY:Friday Night Dinners
DESCRIPTION:
URL:https://veclub.org/event/friday-night-dinners/
CATEGORIES:Club Brunch/Dinners
END:VEVENT
BEGIN:VEVENT
DTSTART;VALUE=DATE:20260206
DTEND;VALUE=DATE:20260207
DTSTAMP:20260419T102059
CREATED:20260209T204123Z
LAST-MODIFIED:20260209T204123Z
UID:14568-1770336000-1770422399@veclub.org
SUMMARY:Sports Committee Meeting
DESCRIPTION:
URL:https://veclub.org/event/sports-committee-meeting/
CATEGORIES:Sports Committee Meetings
END:VEVENT
END:VCALENDAR