BEGIN:VCALENDAR
VERSION:2.0
PRODID:-//Vereinigung Erzgebirge - ECPv6.15.17.1//NONSGML v1.0//EN
CALSCALE:GREGORIAN
METHOD:PUBLISH
X-ORIGINAL-URL:https://veclub.org
X-WR-CALDESC:Events for Vereinigung Erzgebirge
REFRESH-INTERVAL;VALUE=DURATION:PT1H
X-Robots-Tag:noindex
X-PUBLISHED-TTL:PT1H
BEGIN:VTIMEZONE
TZID:America/New_York
BEGIN:DAYLIGHT
TZOFFSETFROM:-0500
TZOFFSETTO:-0400
TZNAME:EDT
DTSTART:20250309T070000
END:DAYLIGHT
BEGIN:STANDARD
TZOFFSETFROM:-0400
TZOFFSETTO:-0500
TZNAME:EST
DTSTART:20251102T060000
END:STANDARD
BEGIN:DAYLIGHT
TZOFFSETFROM:-0500
TZOFFSETTO:-0400
TZNAME:EDT
DTSTART:20260308T070000
END:DAYLIGHT
BEGIN:STANDARD
TZOFFSETFROM:-0400
TZOFFSETTO:-0500
TZNAME:EST
DTSTART:20261101T060000
END:STANDARD
BEGIN:DAYLIGHT
TZOFFSETFROM:-0500
TZOFFSETTO:-0400
TZNAME:EDT
DTSTART:20270314T070000
END:DAYLIGHT
BEGIN:STANDARD
TZOFFSETFROM:-0400
TZOFFSETTO:-0500
TZNAME:EST
DTSTART:20271107T060000
END:STANDARD
END:VTIMEZONE
BEGIN:VEVENT
DTSTART;TZID=America/New_York:20260510T100000
DTEND;TZID=America/New_York:20260510T140000
DTSTAMP:20260424T030655
CREATED:20260325T174243Z
LAST-MODIFIED:20260419T162512Z
UID:15002-1778407200-1778421600@veclub.org
SUMMARY:Mothers Day Brunch
DESCRIPTION:Mothers Day Brunch is on Sunday\, May 10th from 10am to 2pm.  We are taking reservations now. Do not wait since seating is limited.  We cannot accept walk-ins.
URL:https://veclub.org/event/mothers-day-brunch/
CATEGORIES:Club Brunch/Dinners
END:VEVENT
BEGIN:VEVENT
DTSTART;TZID=America/New_York:20260520T170000
DTEND;TZID=America/New_York:20260520T200000
DTSTAMP:20260424T030655
CREATED:20260228T122812Z
LAST-MODIFIED:20260423T143721Z
UID:14869-1779296400-1779307200@veclub.org
SUMMARY:Wednesday Night Dinner
DESCRIPTION:Wednesday Night Dinners: We are offering Wednesday Night dinners on the third Wednesday of the month for the Winter season. Please gather your friends and meet at the Club on Wednesday\, May 20th. 5:00pm – 7:00pm. Self-service in the Large Dining Room. \nMembers & Non-members Welcome \n• Jägerschnitzel with 2 sides $13.00 $16.00 \n• Guiness Stew & Soda Bread with 2 sides $13.00 $16.00 \n• Fried Shrimp with 2 sides $13.00 $16.00 \n• Chicken Fingers and Fries $12.00 $15.00 \n* 6% sales tax will be added to the dinners
URL:https://veclub.org/event/wednesday-night-dinner/
CATEGORIES:Club Brunch/Dinners
END:VEVENT
END:VCALENDAR